BEGIN:VCALENDAR
VERSION:2.0
METHOD:PUBLISH
PRODID:-//Event-List//NONSGML Event-List 5.4.2//DE
X-WR-TIMEZONE:Europe/Berlin
CALSCALE:GREGORIAN
BEGIN:VTIMEZONE
TZID:Europe/Berlin
BEGIN:DAYLIGHT
TZOFFSETFROM:+0100
TZOFFSETTO:+0200
DTSTART:19810329T020000
RRULE:FREQ=YEARLY;BYMONTH=3;BYDAY=-1SU
TZNAME:CEST
END:DAYLIGHT
BEGIN:STANDARD
TZOFFSETFROM:+0200
TZOFFSETTO:+0100
DTSTART:19961027T030000
RRULE:FREQ=YEARLY;BYMONTH=10;BYDAY=-1SU
TZNAME:CET
END:STANDARD
END:VTIMEZONE
BEGIN:VEVENT
DTSTAMP:20260419T212343
DTSTART:20251125T180000
DTEND:20251125T220000
UID:777@tve1927.de/calendar
CLASS:PUBLIC
SUMMARY:Abteilungssitzung Wandern mit Neuwahlen
DESCRIPTION:Neuwahlen möglicher Ausblick 2026
CONTACT:TVE Wandern    Nebenzimmer Lausbub\, Rolf Bertsch
LOCATION:TVE. Gaststätte Nebenzimmer
END:VEVENT
END:VCALENDAR